BEGIN:VCALENDAR
VERSION:2.0
PRODID:-//Valley Marketing - ECPv6.2.2//NONSGML v1.0//EN
CALSCALE:GREGORIAN
METHOD:PUBLISH
X-WR-CALNAME:Valley Marketing
X-ORIGINAL-URL:https://www.valleymarketing.co.uk
X-WR-CALDESC:Events for Valley Marketing
REFRESH-INTERVAL;VALUE=DURATION:PT1H
X-Robots-Tag:noindex
X-PUBLISHED-TTL:PT1H
BEGIN:VTIMEZONE
TZID:UTC
BEGIN:STANDARD
TZOFFSETFROM:+0000
TZOFFSETTO:+0000
TZNAME:UTC
DTSTART:20250101T000000
END:STANDARD
END:VTIMEZONE
BEGIN:VEVENT
DTSTART;TZID=UTC:20250226T080000
DTEND;TZID=UTC:20250226T170000
DTSTAMP:20260422T172555
CREATED:20250226T171248Z
LAST-MODIFIED:20250226T171248Z
UID:10000311-1740556800-1740589200@www.valleymarketing.co.uk
SUMMARY:Sustainability NetWalking
DESCRIPTION:March Sustainability Netwalking event we’ll be paying a visit to the historic Ecclesall Woods. We will meet at the visitor centre car park off Abbey Lane. The session will begin with us introducing ourselves in one sentence followed by walking\, mixing and talking. The walk itself will last around one hour. Afterwards those that want to can join us for a coffee and some deeper connecting and networking. \nDetails \nMeeting time: 9:15am \nWalking Start time: 9:30am \nDistance: 3 miles \nParking: There is a car park at the Woodland Discovery Centre off Abbey Lane. \nItems you might want to bring: \nMuddy boots / Wellies / Trainers\nWaterproof jacket\nRucksack\nWalking poles\nWell-behaved dogs and baby buggies are welcomed\n*Please ensure to check with your doctor if you have any health concerns\, we are not liable for any injuries.* \nWe offer a space for collaboration and support taking in fresh air and exercise. We’ll be discussing sustainable business ideas and opportunities\, wellbeing and ethical practices as we explore Sheffield together. Come along and hear about the Sheffield Sustainability Network and the Sheffield Social Enterprise Network\, and how you can get involved with both. \nIf you have any questions\, please email us at hello@ssen.org.uk. \nIf you have any accessibility needs and want to know more\, please email events@ssen.org.uk. \nData Protection \nThis is a partnership event between Sheffield Sustainability Network\, Sheffield Social Enterprise Network and Karen Perkins Life Coach. In signing up to the event\, you are agreeing to share your data with all three partners for the purposes of managing the Netwalking and keeping you up to date with future Netwalking events.
URL:https://www.valleymarketing.co.uk/networking/sustainability-netwalking/2025-02-26/
LOCATION:Ecclesall Woods  Abbey Lane Sheffield S11 9NF\, Ecclesall Woods Abbey Lane\, Sheffield\, S11 9NF\, United Kingdom
CATEGORIES:Networking,Outdoors,Sheffield
ATTACH;FMTTYPE=image/png:https://www.valleymarketing.co.uk/wp-content/uploads/2023/06/Valley.png
ORGANIZER;CN="Sheffield Sustainability Network and the Sheffield Social Enterprise Network":MAILTO:hello@ssen.org.uk.
END:VEVENT
END:VCALENDAR