BEGIN:VCALENDAR
VERSION:2.0
PRODID:-//Valley Marketing - ECPv6.2.2//NONSGML v1.0//EN
CALSCALE:GREGORIAN
METHOD:PUBLISH
X-ORIGINAL-URL:https://www.valleymarketing.co.uk
X-WR-CALDESC:Events for Valley Marketing
REFRESH-INTERVAL;VALUE=DURATION:PT1H
X-Robots-Tag:noindex
X-PUBLISHED-TTL:PT1H
BEGIN:VTIMEZONE
TZID:UTC
BEGIN:STANDARD
TZOFFSETFROM:+0000
TZOFFSETTO:+0000
TZNAME:UTC
DTSTART:20250101T000000
END:STANDARD
END:VTIMEZONE
BEGIN:VEVENT
DTSTART;TZID=UTC:20250423T091500
DTEND;TZID=UTC:20250423T103000
DTSTAMP:20260422T142919
CREATED:20250226T171543Z
LAST-MODIFIED:20250226T171543Z
UID:10000312-1745399700-1745404200@www.valleymarketing.co.uk
SUMMARY:Sustainability Netwalking: April
DESCRIPTION:The April Sustainability Netwalking event is on Wednesday 23rd April at Manor Park Fields. We will meet at the Manor Lodge entrance on Manor Park Crescent. The session will begin with us introducing ourselves in one sentence followed by walking\, mixing and talking. The walk itself will last around 1 hour and finish with a coffee at the Rhubarb Shed Cafe and more chat for those that want to stay for some deeper connecting and networking. \nDetails \nMeeting time: 9:15am \nWalking Start time: 9:30am \nDistance: 1 mile \nParking: Available at the main entrance to the park on City Road\, and on Manor Lane and Manor Park Crescent. \nItems you might want to bring \n\nMuddy boots / Wellies / Trainers\nWaterproof jacket\nRucksack\nWalking poles\nWell – behaved dogs and Baby buggies are all welcome\n\n*Please ensure to check with your doctor if you have any medication issue\, we are not liable for any injuries.* \nWe offer a space for collaboration and support taking in fresh air and exercise plus focusing on sustainable business ideas and opportunities\, wellbeing and ethical practices as we explore Sheffield together. Come along and hear about the new Sheffield Sustainability Network and the Sheffield Social Enterprise Network\, and how you can get involved with both. \nIf you have any questions\, please email us at hello@ssen.org.uk. \nIf you have any accessibility needs and want to know more\, please email hello@ssen.org.uk
URL:https://www.valleymarketing.co.uk/networking/sustainability-netwalking-april/
LOCATION:Manor Lane Park (Meet outside Manor Lodge Manor Lane entrance)  197 Manor Lane Sheffield S2 1UJ\, Manor Lane Park (Meet outside Manor Lodge Manor Lane entrance) 197 Manor Lane\, Sheffield\, S2 1UJ
CATEGORIES:Networking,Outdoors,Sheffield,Social,South Yorkshire,Sustainability
ATTACH;FMTTYPE=image/png:https://www.valleymarketing.co.uk/wp-content/uploads/2023/06/Valley.png
ORGANIZER;CN="Sheffield Sustainability Network and the Sheffield Social Enterprise Network":MAILTO:hello@ssen.org.uk.
END:VEVENT
END:VCALENDAR