BEGIN:VCALENDAR
VERSION:2.0
PRODID:-//Valley Marketing - ECPv6.2.2//NONSGML v1.0//EN
CALSCALE:GREGORIAN
METHOD:PUBLISH
X-ORIGINAL-URL:https://www.valleymarketing.co.uk
X-WR-CALDESC:Events for Valley Marketing
REFRESH-INTERVAL;VALUE=DURATION:PT1H
X-Robots-Tag:noindex
X-PUBLISHED-TTL:PT1H
BEGIN:VTIMEZONE
TZID:UTC
BEGIN:STANDARD
TZOFFSETFROM:+0000
TZOFFSETTO:+0000
TZNAME:UTC
DTSTART:20230101T000000
END:STANDARD
END:VTIMEZONE
BEGIN:VEVENT
DTSTART;TZID=UTC:20250327T123000
DTEND;TZID=UTC:20250327T140000
DTSTAMP:20260419T130638
CREATED:20230620T154623Z
LAST-MODIFIED:20230620T154623Z
UID:10000263-1743078600-1743084000@www.valleymarketing.co.uk
SUMMARY:MY Network Five Towns
DESCRIPTION:Join The Mid Yorkshire Chamber on the fourth Thursday of every month to grow your connections within the Mid Yorkshire region. In July we are returning to The Escapologist in Xscape\, Castleford! \nGrab a drink\, relax\, and enjoy networking made easy. \nEvents are free to attend\, they’re fun to be at\, and it’s where ​business is done\, so why not spread the word with @MidYorkshireNet using #MYNETWORK! \nThis event is run in partnership by The Wakefield & District Chamber of Commerce\, part of the Mid Yorkshire Chamber of Commerce\, with BPI and Simmul Digital
URL:https://www.valleymarketing.co.uk/networking/my-network-five-towns/2025-03-27/
LOCATION:Escapologist – Xscape Colorado Way Castleford WF10 4TA\, Escapologist - Xscape Colorado Way\, Castleford\, WF10 4TA
CATEGORIES:Castleford,Chamber,Networking,West Yorkshire
ATTACH;FMTTYPE=image/png:https://www.valleymarketing.co.uk/wp-content/uploads/2023/06/Valley.png
END:VEVENT
BEGIN:VEVENT
DTSTART;TZID=UTC:20250227T123000
DTEND;TZID=UTC:20250227T140000
DTSTAMP:20260419T130638
CREATED:20230620T154623Z
LAST-MODIFIED:20230620T154623Z
UID:10000262-1740659400-1740664800@www.valleymarketing.co.uk
SUMMARY:MY Network Five Towns
DESCRIPTION:Join The Mid Yorkshire Chamber on the fourth Thursday of every month to grow your connections within the Mid Yorkshire region. In July we are returning to The Escapologist in Xscape\, Castleford! \nGrab a drink\, relax\, and enjoy networking made easy. \nEvents are free to attend\, they’re fun to be at\, and it’s where ​business is done\, so why not spread the word with @MidYorkshireNet using #MYNETWORK! \nThis event is run in partnership by The Wakefield & District Chamber of Commerce\, part of the Mid Yorkshire Chamber of Commerce\, with BPI and Simmul Digital
URL:https://www.valleymarketing.co.uk/networking/my-network-five-towns/2025-02-27/
LOCATION:Escapologist – Xscape Colorado Way Castleford WF10 4TA\, Escapologist - Xscape Colorado Way\, Castleford\, WF10 4TA
CATEGORIES:Castleford,Chamber,Networking,West Yorkshire
ATTACH;FMTTYPE=image/png:https://www.valleymarketing.co.uk/wp-content/uploads/2023/06/Valley.png
END:VEVENT
BEGIN:VEVENT
DTSTART;TZID=UTC:20250123T123000
DTEND;TZID=UTC:20250123T140000
DTSTAMP:20260419T130638
CREATED:20230620T154623Z
LAST-MODIFIED:20230620T154623Z
UID:10000261-1737635400-1737640800@www.valleymarketing.co.uk
SUMMARY:MY Network Five Towns
DESCRIPTION:Join The Mid Yorkshire Chamber on the fourth Thursday of every month to grow your connections within the Mid Yorkshire region. In July we are returning to The Escapologist in Xscape\, Castleford! \nGrab a drink\, relax\, and enjoy networking made easy. \nEvents are free to attend\, they’re fun to be at\, and it’s where ​business is done\, so why not spread the word with @MidYorkshireNet using #MYNETWORK! \nThis event is run in partnership by The Wakefield & District Chamber of Commerce\, part of the Mid Yorkshire Chamber of Commerce\, with BPI and Simmul Digital
URL:https://www.valleymarketing.co.uk/networking/my-network-five-towns/2025-01-23/
LOCATION:Escapologist – Xscape Colorado Way Castleford WF10 4TA\, Escapologist - Xscape Colorado Way\, Castleford\, WF10 4TA
CATEGORIES:Castleford,Chamber,Networking,West Yorkshire
ATTACH;FMTTYPE=image/png:https://www.valleymarketing.co.uk/wp-content/uploads/2023/06/Valley.png
END:VEVENT
BEGIN:VEVENT
DTSTART;TZID=UTC:20241226T123000
DTEND;TZID=UTC:20241226T140000
DTSTAMP:20260419T130638
CREATED:20230620T154623Z
LAST-MODIFIED:20230620T154623Z
UID:10000260-1735216200-1735221600@www.valleymarketing.co.uk
SUMMARY:MY Network Five Towns
DESCRIPTION:Join The Mid Yorkshire Chamber on the fourth Thursday of every month to grow your connections within the Mid Yorkshire region. In July we are returning to The Escapologist in Xscape\, Castleford! \nGrab a drink\, relax\, and enjoy networking made easy. \nEvents are free to attend\, they’re fun to be at\, and it’s where ​business is done\, so why not spread the word with @MidYorkshireNet using #MYNETWORK! \nThis event is run in partnership by The Wakefield & District Chamber of Commerce\, part of the Mid Yorkshire Chamber of Commerce\, with BPI and Simmul Digital
URL:https://www.valleymarketing.co.uk/networking/my-network-five-towns/2024-12-26/
LOCATION:Escapologist – Xscape Colorado Way Castleford WF10 4TA\, Escapologist - Xscape Colorado Way\, Castleford\, WF10 4TA
CATEGORIES:Castleford,Chamber,Networking,West Yorkshire
ATTACH;FMTTYPE=image/png:https://www.valleymarketing.co.uk/wp-content/uploads/2023/06/Valley.png
END:VEVENT
BEGIN:VEVENT
DTSTART;TZID=UTC:20241128T123000
DTEND;TZID=UTC:20241128T140000
DTSTAMP:20260419T130638
CREATED:20230620T154623Z
LAST-MODIFIED:20230620T154623Z
UID:10000259-1732797000-1732802400@www.valleymarketing.co.uk
SUMMARY:MY Network Five Towns
DESCRIPTION:Join The Mid Yorkshire Chamber on the fourth Thursday of every month to grow your connections within the Mid Yorkshire region. In July we are returning to The Escapologist in Xscape\, Castleford! \nGrab a drink\, relax\, and enjoy networking made easy. \nEvents are free to attend\, they’re fun to be at\, and it’s where ​business is done\, so why not spread the word with @MidYorkshireNet using #MYNETWORK! \nThis event is run in partnership by The Wakefield & District Chamber of Commerce\, part of the Mid Yorkshire Chamber of Commerce\, with BPI and Simmul Digital
URL:https://www.valleymarketing.co.uk/networking/my-network-five-towns/2024-11-28/
LOCATION:Escapologist – Xscape Colorado Way Castleford WF10 4TA\, Escapologist - Xscape Colorado Way\, Castleford\, WF10 4TA
CATEGORIES:Castleford,Chamber,Networking,West Yorkshire
ATTACH;FMTTYPE=image/png:https://www.valleymarketing.co.uk/wp-content/uploads/2023/06/Valley.png
END:VEVENT
BEGIN:VEVENT
DTSTART;TZID=UTC:20241024T123000
DTEND;TZID=UTC:20241024T140000
DTSTAMP:20260419T130638
CREATED:20230620T154623Z
LAST-MODIFIED:20230620T154623Z
UID:10000258-1729773000-1729778400@www.valleymarketing.co.uk
SUMMARY:MY Network Five Towns
DESCRIPTION:Join The Mid Yorkshire Chamber on the fourth Thursday of every month to grow your connections within the Mid Yorkshire region. In July we are returning to The Escapologist in Xscape\, Castleford! \nGrab a drink\, relax\, and enjoy networking made easy. \nEvents are free to attend\, they’re fun to be at\, and it’s where ​business is done\, so why not spread the word with @MidYorkshireNet using #MYNETWORK! \nThis event is run in partnership by The Wakefield & District Chamber of Commerce\, part of the Mid Yorkshire Chamber of Commerce\, with BPI and Simmul Digital
URL:https://www.valleymarketing.co.uk/networking/my-network-five-towns/2024-10-24/
LOCATION:Escapologist – Xscape Colorado Way Castleford WF10 4TA\, Escapologist - Xscape Colorado Way\, Castleford\, WF10 4TA
CATEGORIES:Castleford,Chamber,Networking,West Yorkshire
ATTACH;FMTTYPE=image/png:https://www.valleymarketing.co.uk/wp-content/uploads/2023/06/Valley.png
END:VEVENT
BEGIN:VEVENT
DTSTART;TZID=UTC:20240926T123000
DTEND;TZID=UTC:20240926T140000
DTSTAMP:20260419T130638
CREATED:20230620T154623Z
LAST-MODIFIED:20230620T154623Z
UID:10000257-1727353800-1727359200@www.valleymarketing.co.uk
SUMMARY:MY Network Five Towns
DESCRIPTION:Join The Mid Yorkshire Chamber on the fourth Thursday of every month to grow your connections within the Mid Yorkshire region. In July we are returning to The Escapologist in Xscape\, Castleford! \nGrab a drink\, relax\, and enjoy networking made easy. \nEvents are free to attend\, they’re fun to be at\, and it’s where ​business is done\, so why not spread the word with @MidYorkshireNet using #MYNETWORK! \nThis event is run in partnership by The Wakefield & District Chamber of Commerce\, part of the Mid Yorkshire Chamber of Commerce\, with BPI and Simmul Digital
URL:https://www.valleymarketing.co.uk/networking/my-network-five-towns/2024-09-26/
LOCATION:Escapologist – Xscape Colorado Way Castleford WF10 4TA\, Escapologist - Xscape Colorado Way\, Castleford\, WF10 4TA
CATEGORIES:Castleford,Chamber,Networking,West Yorkshire
ATTACH;FMTTYPE=image/png:https://www.valleymarketing.co.uk/wp-content/uploads/2023/06/Valley.png
END:VEVENT
BEGIN:VEVENT
DTSTART;TZID=UTC:20240822T123000
DTEND;TZID=UTC:20240822T140000
DTSTAMP:20260419T130638
CREATED:20230620T154623Z
LAST-MODIFIED:20230620T154623Z
UID:10000256-1724329800-1724335200@www.valleymarketing.co.uk
SUMMARY:MY Network Five Towns
DESCRIPTION:Join The Mid Yorkshire Chamber on the fourth Thursday of every month to grow your connections within the Mid Yorkshire region. In July we are returning to The Escapologist in Xscape\, Castleford! \nGrab a drink\, relax\, and enjoy networking made easy. \nEvents are free to attend\, they’re fun to be at\, and it’s where ​business is done\, so why not spread the word with @MidYorkshireNet using #MYNETWORK! \nThis event is run in partnership by The Wakefield & District Chamber of Commerce\, part of the Mid Yorkshire Chamber of Commerce\, with BPI and Simmul Digital
URL:https://www.valleymarketing.co.uk/networking/my-network-five-towns/2024-08-22/
LOCATION:Escapologist – Xscape Colorado Way Castleford WF10 4TA\, Escapologist - Xscape Colorado Way\, Castleford\, WF10 4TA
CATEGORIES:Castleford,Chamber,Networking,West Yorkshire
ATTACH;FMTTYPE=image/png:https://www.valleymarketing.co.uk/wp-content/uploads/2023/06/Valley.png
END:VEVENT
BEGIN:VEVENT
DTSTART;TZID=UTC:20240725T123000
DTEND;TZID=UTC:20240725T140000
DTSTAMP:20260419T130638
CREATED:20230620T154623Z
LAST-MODIFIED:20230620T154623Z
UID:10000255-1721910600-1721916000@www.valleymarketing.co.uk
SUMMARY:MY Network Five Towns
DESCRIPTION:Join The Mid Yorkshire Chamber on the fourth Thursday of every month to grow your connections within the Mid Yorkshire region. In July we are returning to The Escapologist in Xscape\, Castleford! \nGrab a drink\, relax\, and enjoy networking made easy. \nEvents are free to attend\, they’re fun to be at\, and it’s where ​business is done\, so why not spread the word with @MidYorkshireNet using #MYNETWORK! \nThis event is run in partnership by The Wakefield & District Chamber of Commerce\, part of the Mid Yorkshire Chamber of Commerce\, with BPI and Simmul Digital
URL:https://www.valleymarketing.co.uk/networking/my-network-five-towns/2024-07-25/
LOCATION:Escapologist – Xscape Colorado Way Castleford WF10 4TA\, Escapologist - Xscape Colorado Way\, Castleford\, WF10 4TA
CATEGORIES:Castleford,Chamber,Networking,West Yorkshire
ATTACH;FMTTYPE=image/png:https://www.valleymarketing.co.uk/wp-content/uploads/2023/06/Valley.png
END:VEVENT
BEGIN:VEVENT
DTSTART;TZID=UTC:20240627T123000
DTEND;TZID=UTC:20240627T140000
DTSTAMP:20260419T130638
CREATED:20230620T154623Z
LAST-MODIFIED:20230620T154623Z
UID:10000254-1719491400-1719496800@www.valleymarketing.co.uk
SUMMARY:MY Network Five Towns
DESCRIPTION:Join The Mid Yorkshire Chamber on the fourth Thursday of every month to grow your connections within the Mid Yorkshire region. In July we are returning to The Escapologist in Xscape\, Castleford! \nGrab a drink\, relax\, and enjoy networking made easy. \nEvents are free to attend\, they’re fun to be at\, and it’s where ​business is done\, so why not spread the word with @MidYorkshireNet using #MYNETWORK! \nThis event is run in partnership by The Wakefield & District Chamber of Commerce\, part of the Mid Yorkshire Chamber of Commerce\, with BPI and Simmul Digital
URL:https://www.valleymarketing.co.uk/networking/my-network-five-towns/2024-06-27/
LOCATION:Escapologist – Xscape Colorado Way Castleford WF10 4TA\, Escapologist - Xscape Colorado Way\, Castleford\, WF10 4TA
CATEGORIES:Castleford,Chamber,Networking,West Yorkshire
ATTACH;FMTTYPE=image/png:https://www.valleymarketing.co.uk/wp-content/uploads/2023/06/Valley.png
END:VEVENT
BEGIN:VEVENT
DTSTART;TZID=UTC:20240523T123000
DTEND;TZID=UTC:20240523T140000
DTSTAMP:20260419T130638
CREATED:20230620T154623Z
LAST-MODIFIED:20230620T154623Z
UID:10000253-1716467400-1716472800@www.valleymarketing.co.uk
SUMMARY:MY Network Five Towns
DESCRIPTION:Join The Mid Yorkshire Chamber on the fourth Thursday of every month to grow your connections within the Mid Yorkshire region. In July we are returning to The Escapologist in Xscape\, Castleford! \nGrab a drink\, relax\, and enjoy networking made easy. \nEvents are free to attend\, they’re fun to be at\, and it’s where ​business is done\, so why not spread the word with @MidYorkshireNet using #MYNETWORK! \nThis event is run in partnership by The Wakefield & District Chamber of Commerce\, part of the Mid Yorkshire Chamber of Commerce\, with BPI and Simmul Digital
URL:https://www.valleymarketing.co.uk/networking/my-network-five-towns/2024-05-23/
LOCATION:Escapologist – Xscape Colorado Way Castleford WF10 4TA\, Escapologist - Xscape Colorado Way\, Castleford\, WF10 4TA
CATEGORIES:Castleford,Chamber,Networking,West Yorkshire
ATTACH;FMTTYPE=image/png:https://www.valleymarketing.co.uk/wp-content/uploads/2023/06/Valley.png
END:VEVENT
BEGIN:VEVENT
DTSTART;TZID=UTC:20240425T123000
DTEND;TZID=UTC:20240425T140000
DTSTAMP:20260419T130638
CREATED:20230620T154623Z
LAST-MODIFIED:20230620T154623Z
UID:10000252-1714048200-1714053600@www.valleymarketing.co.uk
SUMMARY:MY Network Five Towns
DESCRIPTION:Join The Mid Yorkshire Chamber on the fourth Thursday of every month to grow your connections within the Mid Yorkshire region. In July we are returning to The Escapologist in Xscape\, Castleford! \nGrab a drink\, relax\, and enjoy networking made easy. \nEvents are free to attend\, they’re fun to be at\, and it’s where ​business is done\, so why not spread the word with @MidYorkshireNet using #MYNETWORK! \nThis event is run in partnership by The Wakefield & District Chamber of Commerce\, part of the Mid Yorkshire Chamber of Commerce\, with BPI and Simmul Digital
URL:https://www.valleymarketing.co.uk/networking/my-network-five-towns/2024-04-25/
LOCATION:Escapologist – Xscape Colorado Way Castleford WF10 4TA\, Escapologist - Xscape Colorado Way\, Castleford\, WF10 4TA
CATEGORIES:Castleford,Chamber,Networking,West Yorkshire
ATTACH;FMTTYPE=image/png:https://www.valleymarketing.co.uk/wp-content/uploads/2023/06/Valley.png
END:VEVENT
BEGIN:VEVENT
DTSTART;TZID=UTC:20240328T123000
DTEND;TZID=UTC:20240328T140000
DTSTAMP:20260419T130638
CREATED:20230620T154623Z
LAST-MODIFIED:20230620T154623Z
UID:10000251-1711629000-1711634400@www.valleymarketing.co.uk
SUMMARY:MY Network Five Towns
DESCRIPTION:Join The Mid Yorkshire Chamber on the fourth Thursday of every month to grow your connections within the Mid Yorkshire region. In July we are returning to The Escapologist in Xscape\, Castleford! \nGrab a drink\, relax\, and enjoy networking made easy. \nEvents are free to attend\, they’re fun to be at\, and it’s where ​business is done\, so why not spread the word with @MidYorkshireNet using #MYNETWORK! \nThis event is run in partnership by The Wakefield & District Chamber of Commerce\, part of the Mid Yorkshire Chamber of Commerce\, with BPI and Simmul Digital
URL:https://www.valleymarketing.co.uk/networking/my-network-five-towns/2024-03-28/
LOCATION:Escapologist – Xscape Colorado Way Castleford WF10 4TA\, Escapologist - Xscape Colorado Way\, Castleford\, WF10 4TA
CATEGORIES:Castleford,Chamber,Networking,West Yorkshire
ATTACH;FMTTYPE=image/png:https://www.valleymarketing.co.uk/wp-content/uploads/2023/06/Valley.png
END:VEVENT
BEGIN:VEVENT
DTSTART;TZID=UTC:20240222T123000
DTEND;TZID=UTC:20240222T140000
DTSTAMP:20260419T130638
CREATED:20230620T154623Z
LAST-MODIFIED:20230620T154623Z
UID:10000250-1708605000-1708610400@www.valleymarketing.co.uk
SUMMARY:MY Network Five Towns
DESCRIPTION:Join The Mid Yorkshire Chamber on the fourth Thursday of every month to grow your connections within the Mid Yorkshire region. In July we are returning to The Escapologist in Xscape\, Castleford! \nGrab a drink\, relax\, and enjoy networking made easy. \nEvents are free to attend\, they’re fun to be at\, and it’s where ​business is done\, so why not spread the word with @MidYorkshireNet using #MYNETWORK! \nThis event is run in partnership by The Wakefield & District Chamber of Commerce\, part of the Mid Yorkshire Chamber of Commerce\, with BPI and Simmul Digital
URL:https://www.valleymarketing.co.uk/networking/my-network-five-towns/2024-02-22/
LOCATION:Escapologist – Xscape Colorado Way Castleford WF10 4TA\, Escapologist - Xscape Colorado Way\, Castleford\, WF10 4TA
CATEGORIES:Castleford,Chamber,Networking,West Yorkshire
ATTACH;FMTTYPE=image/png:https://www.valleymarketing.co.uk/wp-content/uploads/2023/06/Valley.png
END:VEVENT
BEGIN:VEVENT
DTSTART;TZID=UTC:20240125T123000
DTEND;TZID=UTC:20240125T140000
DTSTAMP:20260419T130638
CREATED:20230620T154623Z
LAST-MODIFIED:20230620T154623Z
UID:10000249-1706185800-1706191200@www.valleymarketing.co.uk
SUMMARY:MY Network Five Towns
DESCRIPTION:Join The Mid Yorkshire Chamber on the fourth Thursday of every month to grow your connections within the Mid Yorkshire region. In July we are returning to The Escapologist in Xscape\, Castleford! \nGrab a drink\, relax\, and enjoy networking made easy. \nEvents are free to attend\, they’re fun to be at\, and it’s where ​business is done\, so why not spread the word with @MidYorkshireNet using #MYNETWORK! \nThis event is run in partnership by The Wakefield & District Chamber of Commerce\, part of the Mid Yorkshire Chamber of Commerce\, with BPI and Simmul Digital
URL:https://www.valleymarketing.co.uk/networking/my-network-five-towns/2024-01-25/
LOCATION:Escapologist – Xscape Colorado Way Castleford WF10 4TA\, Escapologist - Xscape Colorado Way\, Castleford\, WF10 4TA
CATEGORIES:Castleford,Chamber,Networking,West Yorkshire
ATTACH;FMTTYPE=image/png:https://www.valleymarketing.co.uk/wp-content/uploads/2023/06/Valley.png
END:VEVENT
BEGIN:VEVENT
DTSTART;TZID=UTC:20231228T123000
DTEND;TZID=UTC:20231228T140000
DTSTAMP:20260419T130638
CREATED:20230620T154623Z
LAST-MODIFIED:20230620T154623Z
UID:10000248-1703766600-1703772000@www.valleymarketing.co.uk
SUMMARY:MY Network Five Towns
DESCRIPTION:Join The Mid Yorkshire Chamber on the fourth Thursday of every month to grow your connections within the Mid Yorkshire region. In July we are returning to The Escapologist in Xscape\, Castleford! \nGrab a drink\, relax\, and enjoy networking made easy. \nEvents are free to attend\, they’re fun to be at\, and it’s where ​business is done\, so why not spread the word with @MidYorkshireNet using #MYNETWORK! \nThis event is run in partnership by The Wakefield & District Chamber of Commerce\, part of the Mid Yorkshire Chamber of Commerce\, with BPI and Simmul Digital
URL:https://www.valleymarketing.co.uk/networking/my-network-five-towns/2023-12-28/
LOCATION:Escapologist – Xscape Colorado Way Castleford WF10 4TA\, Escapologist - Xscape Colorado Way\, Castleford\, WF10 4TA
CATEGORIES:Castleford,Chamber,Networking,West Yorkshire
ATTACH;FMTTYPE=image/png:https://www.valleymarketing.co.uk/wp-content/uploads/2023/06/Valley.png
END:VEVENT
BEGIN:VEVENT
DTSTART;TZID=UTC:20231123T123000
DTEND;TZID=UTC:20231123T140000
DTSTAMP:20260419T130638
CREATED:20230620T154623Z
LAST-MODIFIED:20230620T154623Z
UID:10000247-1700742600-1700748000@www.valleymarketing.co.uk
SUMMARY:MY Network Five Towns
DESCRIPTION:Join The Mid Yorkshire Chamber on the fourth Thursday of every month to grow your connections within the Mid Yorkshire region. In July we are returning to The Escapologist in Xscape\, Castleford! \nGrab a drink\, relax\, and enjoy networking made easy. \nEvents are free to attend\, they’re fun to be at\, and it’s where ​business is done\, so why not spread the word with @MidYorkshireNet using #MYNETWORK! \nThis event is run in partnership by The Wakefield & District Chamber of Commerce\, part of the Mid Yorkshire Chamber of Commerce\, with BPI and Simmul Digital
URL:https://www.valleymarketing.co.uk/networking/my-network-five-towns/2023-11-23/
LOCATION:Escapologist – Xscape Colorado Way Castleford WF10 4TA\, Escapologist - Xscape Colorado Way\, Castleford\, WF10 4TA
CATEGORIES:Castleford,Chamber,Networking,West Yorkshire
ATTACH;FMTTYPE=image/png:https://www.valleymarketing.co.uk/wp-content/uploads/2023/06/Valley.png
END:VEVENT
BEGIN:VEVENT
DTSTART;TZID=UTC:20231026T123000
DTEND;TZID=UTC:20231026T140000
DTSTAMP:20260419T130638
CREATED:20230620T154623Z
LAST-MODIFIED:20230620T154623Z
UID:10000246-1698323400-1698328800@www.valleymarketing.co.uk
SUMMARY:MY Network Five Towns
DESCRIPTION:Join The Mid Yorkshire Chamber on the fourth Thursday of every month to grow your connections within the Mid Yorkshire region. In July we are returning to The Escapologist in Xscape\, Castleford! \nGrab a drink\, relax\, and enjoy networking made easy. \nEvents are free to attend\, they’re fun to be at\, and it’s where ​business is done\, so why not spread the word with @MidYorkshireNet using #MYNETWORK! \nThis event is run in partnership by The Wakefield & District Chamber of Commerce\, part of the Mid Yorkshire Chamber of Commerce\, with BPI and Simmul Digital
URL:https://www.valleymarketing.co.uk/networking/my-network-five-towns/2023-10-26/
LOCATION:Escapologist – Xscape Colorado Way Castleford WF10 4TA\, Escapologist - Xscape Colorado Way\, Castleford\, WF10 4TA
CATEGORIES:Castleford,Chamber,Networking,West Yorkshire
ATTACH;FMTTYPE=image/png:https://www.valleymarketing.co.uk/wp-content/uploads/2023/06/Valley.png
END:VEVENT
BEGIN:VEVENT
DTSTART;TZID=UTC:20230928T123000
DTEND;TZID=UTC:20230928T140000
DTSTAMP:20260419T130638
CREATED:20230620T154623Z
LAST-MODIFIED:20230620T154623Z
UID:10000245-1695904200-1695909600@www.valleymarketing.co.uk
SUMMARY:MY Network Five Towns
DESCRIPTION:Join The Mid Yorkshire Chamber on the fourth Thursday of every month to grow your connections within the Mid Yorkshire region. In July we are returning to The Escapologist in Xscape\, Castleford! \nGrab a drink\, relax\, and enjoy networking made easy. \nEvents are free to attend\, they’re fun to be at\, and it’s where ​business is done\, so why not spread the word with @MidYorkshireNet using #MYNETWORK! \nThis event is run in partnership by The Wakefield & District Chamber of Commerce\, part of the Mid Yorkshire Chamber of Commerce\, with BPI and Simmul Digital
URL:https://www.valleymarketing.co.uk/networking/my-network-five-towns/2023-09-28/
LOCATION:Escapologist – Xscape Colorado Way Castleford WF10 4TA\, Escapologist - Xscape Colorado Way\, Castleford\, WF10 4TA
CATEGORIES:Castleford,Chamber,Networking,West Yorkshire
ATTACH;FMTTYPE=image/png:https://www.valleymarketing.co.uk/wp-content/uploads/2023/06/Valley.png
END:VEVENT
BEGIN:VEVENT
DTSTART;TZID=UTC:20230824T123000
DTEND;TZID=UTC:20230824T140000
DTSTAMP:20260419T130638
CREATED:20230620T154623Z
LAST-MODIFIED:20230620T154623Z
UID:10000244-1692880200-1692885600@www.valleymarketing.co.uk
SUMMARY:MY Network Five Towns
DESCRIPTION:Join The Mid Yorkshire Chamber on the fourth Thursday of every month to grow your connections within the Mid Yorkshire region. In July we are returning to The Escapologist in Xscape\, Castleford! \nGrab a drink\, relax\, and enjoy networking made easy. \nEvents are free to attend\, they’re fun to be at\, and it’s where ​business is done\, so why not spread the word with @MidYorkshireNet using #MYNETWORK! \nThis event is run in partnership by The Wakefield & District Chamber of Commerce\, part of the Mid Yorkshire Chamber of Commerce\, with BPI and Simmul Digital
URL:https://www.valleymarketing.co.uk/networking/my-network-five-towns/2023-08-24/
LOCATION:Escapologist – Xscape Colorado Way Castleford WF10 4TA\, Escapologist - Xscape Colorado Way\, Castleford\, WF10 4TA
CATEGORIES:Castleford,Chamber,Networking,West Yorkshire
ATTACH;FMTTYPE=image/png:https://www.valleymarketing.co.uk/wp-content/uploads/2023/06/Valley.png
END:VEVENT
BEGIN:VEVENT
DTSTART;TZID=UTC:20230727T123000
DTEND;TZID=UTC:20230727T140000
DTSTAMP:20260419T130638
CREATED:20230620T154623Z
LAST-MODIFIED:20230620T154623Z
UID:10000243-1690461000-1690466400@www.valleymarketing.co.uk
SUMMARY:MY Network Five Towns
DESCRIPTION:Join The Mid Yorkshire Chamber on the fourth Thursday of every month to grow your connections within the Mid Yorkshire region. In July we are returning to The Escapologist in Xscape\, Castleford! \nGrab a drink\, relax\, and enjoy networking made easy. \nEvents are free to attend\, they’re fun to be at\, and it’s where ​business is done\, so why not spread the word with @MidYorkshireNet using #MYNETWORK! \nThis event is run in partnership by The Wakefield & District Chamber of Commerce\, part of the Mid Yorkshire Chamber of Commerce\, with BPI and Simmul Digital
URL:https://www.valleymarketing.co.uk/networking/my-network-five-towns/2023-07-27/
LOCATION:Escapologist – Xscape Colorado Way Castleford WF10 4TA\, Escapologist - Xscape Colorado Way\, Castleford\, WF10 4TA
CATEGORIES:Castleford,Chamber,Networking,West Yorkshire
ATTACH;FMTTYPE=image/png:https://www.valleymarketing.co.uk/wp-content/uploads/2023/06/Valley.png
END:VEVENT
BEGIN:VEVENT
DTSTART;TZID=UTC:20230622T123000
DTEND;TZID=UTC:20230622T140000
DTSTAMP:20260419T130638
CREATED:20230620T154623Z
LAST-MODIFIED:20230620T154623Z
UID:10000242-1687437000-1687442400@www.valleymarketing.co.uk
SUMMARY:MY Network Five Towns
DESCRIPTION:Join The Mid Yorkshire Chamber on the fourth Thursday of every month to grow your connections within the Mid Yorkshire region. In July we are returning to The Escapologist in Xscape\, Castleford! \nGrab a drink\, relax\, and enjoy networking made easy. \nEvents are free to attend\, they’re fun to be at\, and it’s where ​business is done\, so why not spread the word with @MidYorkshireNet using #MYNETWORK! \nThis event is run in partnership by The Wakefield & District Chamber of Commerce\, part of the Mid Yorkshire Chamber of Commerce\, with BPI and Simmul Digital
URL:https://www.valleymarketing.co.uk/networking/my-network-five-towns/2023-06-22/
LOCATION:Escapologist – Xscape Colorado Way Castleford WF10 4TA\, Escapologist - Xscape Colorado Way\, Castleford\, WF10 4TA
CATEGORIES:Castleford,Chamber,Networking,West Yorkshire
ATTACH;FMTTYPE=image/png:https://www.valleymarketing.co.uk/wp-content/uploads/2023/06/Valley.png
END:VEVENT
END:VCALENDAR